BEGIN:VCALENDAR
VERSION:2.0
PRODID:-//Hållbar Utveckling Skåne - ECPv6.15.20//NONSGML v1.0//EN
CALSCALE:GREGORIAN
METHOD:PUBLISH
X-WR-CALNAME:Hållbar Utveckling Skåne
X-ORIGINAL-URL:https://www.hutskane.se
X-WR-CALDESC:Händelser för Hållbar Utveckling Skåne
REFRESH-INTERVAL;VALUE=DURATION:PT1H
X-Robots-Tag:noindex
X-PUBLISHED-TTL:PT1H
BEGIN:VTIMEZONE
TZID:Europe/Stockholm
BEGIN:DAYLIGHT
TZOFFSETFROM:+0100
TZOFFSETTO:+0200
TZNAME:CEST
DTSTART:20250330T010000
END:DAYLIGHT
BEGIN:STANDARD
TZOFFSETFROM:+0200
TZOFFSETTO:+0100
TZNAME:CET
DTSTART:20251026T010000
END:STANDARD
BEGIN:DAYLIGHT
TZOFFSETFROM:+0100
TZOFFSETTO:+0200
TZNAME:CEST
DTSTART:20260329T010000
END:DAYLIGHT
BEGIN:STANDARD
TZOFFSETFROM:+0200
TZOFFSETTO:+0100
TZNAME:CET
DTSTART:20261025T010000
END:STANDARD
BEGIN:DAYLIGHT
TZOFFSETFROM:+0100
TZOFFSETTO:+0200
TZNAME:CEST
DTSTART:20270328T010000
END:DAYLIGHT
BEGIN:STANDARD
TZOFFSETFROM:+0200
TZOFFSETTO:+0100
TZNAME:CET
DTSTART:20271031T010000
END:STANDARD
END:VTIMEZONE
BEGIN:VEVENT
DTSTART;TZID=Europe/Stockholm:20260422T083000
DTEND;TZID=Europe/Stockholm:20260422T123000
DTSTAMP:20260422T013850
CREATED:20260312T084332Z
LAST-MODIFIED:20260318T154608Z
UID:35998-1776846600-1776861000@www.hutskane.se
SUMMARY:Konferens: Ett mål i taget - Ett smörgåsbord för nya affärer
DESCRIPTION:Konferens: FN:s hållbarhetsmål – Ett smörgåsbord för nya affärer\nEfter 17 framgångsrika webbinarier är det dags att knyta ihop säcken och blicka framåt! \nUnder vår satsning ”Ett mål i taget” har vi fördjupat oss i varje hållbarhetsmål och sett hur de kan förvandlas till konkreta affärsmöjligheter för det skånska näringslivet. Nu bjuder vi in till en gemensam halvdagskonferens där vi firar resan\, hämtar ny inspiration och rustar oss för nästa steg mot en hållbar framtid. \nVi bjuder på frukost\, nätverkande och ett fullspäckat program där vi går från teori till handling med stöd av Ystadmodellen. Oavsett om du har följt oss hela vägen eller är helt ny i nätverket är du varmt välkommen! \nPå programmet:\n\nFramtidsspaning: Yasemin Arhan Modéer ger oss blicken mot horisonten.\nLedarskap i förändring: Sarah Emond föreläser om hur vi når målen genom Inner Development Goals (IDG).\nPanelsamtal: Lyssna till företagare som framgångsrikt har växlat upp sitt hållbarhetsarbete.\nVisioner för Skåne: Länsstyrelsen och Region Skåne presenterar ramarna för ett hållbart näringsliv.\nNätverka och väx: Mingla med rådgivare\, finansiärer och branschkollegor.\n\nPlats: Ystad Studios Visitor Center\, Elis Nilssons väg 14\, Ystad\nTid: 22 april\, kl. 08:30 – 12:30\nVi bjuder på: En härlig frukost och massor av nya kontakter! \nAnmäl dig senast 15 april här! \nSatsningen finansieras av Regional utveckling – Region Skåne\, Länsstyrelsen Skåne och Sparbanken Syd.
URL:https://www.hutskane.se/kalender/konferens-ett-mal-i-taget/
LOCATION:Ystad Studios Visitor Center\, Elis Nilssons väg 14\, Ystad\, Sweden
CATEGORIES:Ystadmodellen
ATTACH;FMTTYPE=image/png:https://www.hutskane.se/wp-content/uploads/2026/03/2Konferens.png
ORGANIZER;CN="H%C3%A5llbar Utveckling Sk%C3%A5ne":MAILTO:helena.thelander@hutskane.se
END:VEVENT
END:VCALENDAR