BEGIN:VCALENDAR
VERSION:2.0
PRODID:-//Hållbar Utveckling Skåne - ECPv6.15.20//NONSGML v1.0//EN
CALSCALE:GREGORIAN
METHOD:PUBLISH
X-WR-CALNAME:Hållbar Utveckling Skåne
X-ORIGINAL-URL:https://www.hutskane.se
X-WR-CALDESC:Händelser för Hållbar Utveckling Skåne
REFRESH-INTERVAL;VALUE=DURATION:PT1H
X-Robots-Tag:noindex
X-PUBLISHED-TTL:PT1H
BEGIN:VTIMEZONE
TZID:Europe/Stockholm
BEGIN:DAYLIGHT
TZOFFSETFROM:+0100
TZOFFSETTO:+0200
TZNAME:CEST
DTSTART:20250330T010000
END:DAYLIGHT
BEGIN:STANDARD
TZOFFSETFROM:+0200
TZOFFSETTO:+0100
TZNAME:CET
DTSTART:20251026T010000
END:STANDARD
BEGIN:DAYLIGHT
TZOFFSETFROM:+0100
TZOFFSETTO:+0200
TZNAME:CEST
DTSTART:20260329T010000
END:DAYLIGHT
BEGIN:STANDARD
TZOFFSETFROM:+0200
TZOFFSETTO:+0100
TZNAME:CET
DTSTART:20261025T010000
END:STANDARD
BEGIN:DAYLIGHT
TZOFFSETFROM:+0100
TZOFFSETTO:+0200
TZNAME:CEST
DTSTART:20270328T010000
END:DAYLIGHT
BEGIN:STANDARD
TZOFFSETFROM:+0200
TZOFFSETTO:+0100
TZNAME:CET
DTSTART:20271031T010000
END:STANDARD
END:VTIMEZONE
BEGIN:VEVENT
DTSTART;TZID=Europe/Stockholm:20260421T130000
DTEND;TZID=Europe/Stockholm:20260421T150000
DTSTAMP:20260421T171831
CREATED:20251112T081341Z
LAST-MODIFIED:20260402T113312Z
UID:35278-1776776400-1776783600@www.hutskane.se
SUMMARY:Hållbar Människa: Maktens centrum - Workshop 1
DESCRIPTION:Välkommen till den första delen av Maktens centrum – en interaktiv workshop där vi tillsammans utforskar vad makt egentligen är och hur den känns. Med utgångspunkt i Martin Westins forskning om olika maktbegrepp – ”makt över”\, ”makt tillsammans”\, ”makt att” och ”makt inifrån” – får du möjlighet att reflektera\, uppleva och diskutera hur makt tar sig uttryck i vardagen och i våra relationer. \nWorkshopen leds av Anna Ranger\, interaktiv pedagog med fokus på relationell kompetens och samskapat förändringsarbete. \nEfter workshopen bjuds du som vill att stanna kvar till kl. 16.00 på gemensam fika och samtal. \nDatum: Tisdag 21 april kl. 13.00–15.00Plats: Hållbar Utveckling SkåneLedare: Anna Ranger\, interaktiv pedagog \n \nBegränsat antal platser: 15 deltagareAnmäl dig senast två veckor innan workshopens start.
URL:https://www.hutskane.se/kalender/hallbar-manniska-maktens-centrum-worskhop-1/
LOCATION:Hållbar Utveckling Skåne\, Ledebursgatan 5\, Malmö\, 21215\, Sweden
CATEGORIES:Hållbar människa,Nätverksträffar
ORGANIZER;CN="H%C3%A5llbar M%C3%A4nniska":MAILTO:helena.thelander@hutskane.se
END:VEVENT
END:VCALENDAR